{
 "currentVersion": 10.81,
 "serviceDescription": "",
 "mapName": "EC_KABEL_Extern",
 "description": "",
 "copyrightText": "",
 "supportsDynamicLayers": true,
 "layers": [
  {
   "id": 0,
   "name": "EV KV Querschnitt",
   "parentLayerId": -1,
   "defaultVisibility": true,
   "subLayerIds": [
    1,
    3,
    5,
    7,
    8,
    9,
    10
   ],
   "minScale": 0,
   "maxScale": 0,
   "type": "Group Layer"
  },
  {
   "id": 1,
   "name": "Kabelschutz Position (A)",
   "parentLayerId": 0,
   "defaultVisibility": true,
   "subLayerIds": [
    2
   ],
   "minScale": 2001,
   "maxScale": 0,
   "type": "Annotation Layer",
   "geometryType": "esriGeometryPolygon"
  },
  {
   "id": 2,
   "name": "___",
   "parentLayerId": 1,
   "defaultVisibility": true,
   "subLayerIds": null,
   "minScale": 2001,
   "maxScale": 0
  },
  {
   "id": 3,
   "name": "Kabelschutz Innen Text (A) ohne Halo",
   "parentLayerId": 0,
   "defaultVisibility": true,
   "subLayerIds": [
    4
   ],
   "minScale": 2001,
   "maxScale": 0,
   "type": "Annotation Layer",
   "geometryType": "esriGeometryPolygon"
  },
  {
   "id": 4,
   "name": "___",
   "parentLayerId": 3,
   "defaultVisibility": true,
   "subLayerIds": null,
   "minScale": 2001,
   "maxScale": 0
  },
  {
   "id": 5,
   "name": "Kabelschutz Aussen Text (A) ohne Halo",
   "parentLayerId": 0,
   "defaultVisibility": true,
   "subLayerIds": [
    6
   ],
   "minScale": 2001,
   "maxScale": 0,
   "type": "Annotation Layer",
   "geometryType": "esriGeometryPolygon"
  },
  {
   "id": 6,
   "name": "___",
   "parentLayerId": 5,
   "defaultVisibility": true,
   "subLayerIds": null,
   "minScale": 2001,
   "maxScale": 0
  },
  {
   "id": 7,
   "name": "Kabelschutz Innen",
   "parentLayerId": 0,
   "defaultVisibility": true,
   "subLayerIds": null,
   "minScale": 2001,
   "maxScale": 0,
   "type": "Feature Layer",
   "geometryType": "esriGeometryPoint"
  },
  {
   "id": 8,
   "name": "Kabelschutz, aussen",
   "parentLayerId": 0,
   "defaultVisibility": true,
   "subLayerIds": null,
   "minScale": 2001,
   "maxScale": 0,
   "type": "Feature Layer",
   "geometryType": "esriGeometryPoint"
  },
  {
   "id": 9,
   "name": "Querschnittsbasis",
   "parentLayerId": 0,
   "defaultVisibility": true,
   "subLayerIds": null,
   "minScale": 2001,
   "maxScale": 0,
   "type": "Feature Layer",
   "geometryType": "esriGeometryPolyline"
  },
  {
   "id": 10,
   "name": "Querschnittsfläche",
   "parentLayerId": 0,
   "defaultVisibility": true,
   "subLayerIds": null,
   "minScale": 2001,
   "maxScale": 0,
   "type": "Feature Layer",
   "geometryType": "esriGeometryPolygon"
  },
  {
   "id": 11,
   "name": "EV KV Messpunkt",
   "parentLayerId": -1,
   "defaultVisibility": true,
   "subLayerIds": [
    12
   ],
   "minScale": 0,
   "maxScale": 0,
   "type": "Group Layer"
  },
  {
   "id": 12,
   "name": "Messpunkt",
   "parentLayerId": 11,
   "defaultVisibility": true,
   "subLayerIds": null,
   "minScale": 2001,
   "maxScale": 0,
   "type": "Feature Layer",
   "geometryType": "esriGeometryPoint"
  },
  {
   "id": 13,
   "name": "EV KV Punktobjekte",
   "parentLayerId": -1,
   "defaultVisibility": true,
   "subLayerIds": [
    14,
    16,
    18,
    20,
    22,
    23,
    25,
    26,
    27,
    28,
    29,
    30,
    31,
    32,
    33,
    34,
    35,
    36,
    37
   ],
   "minScale": 0,
   "maxScale": 0,
   "type": "Group Layer"
  },
  {
   "id": 14,
   "name": "Station (Name) (A)",
   "parentLayerId": 13,
   "defaultVisibility": true,
   "subLayerIds": [
    15
   ],
   "minScale": 551,
   "maxScale": 0,
   "type": "Annotation Layer",
   "geometryType": "esriGeometryPolygon"
  },
  {
   "id": 15,
   "name": "___",
   "parentLayerId": 14,
   "defaultVisibility": true,
   "subLayerIds": null,
   "minScale": 551,
   "maxScale": 0
  },
  {
   "id": 16,
   "name": "Station (Nummer) (A)",
   "parentLayerId": 13,
   "defaultVisibility": true,
   "subLayerIds": [
    17
   ],
   "minScale": 551,
   "maxScale": 0,
   "type": "Annotation Layer",
   "geometryType": "esriGeometryPolygon"
  },
  {
   "id": 17,
   "name": "___",
   "parentLayerId": 16,
   "defaultVisibility": true,
   "subLayerIds": null,
   "minScale": 551,
   "maxScale": 0
  },
  {
   "id": 18,
   "name": "Station (Name Node) (A)",
   "parentLayerId": 13,
   "defaultVisibility": true,
   "subLayerIds": [
    19
   ],
   "minScale": 551,
   "maxScale": 0,
   "type": "Annotation Layer",
   "geometryType": "esriGeometryPolygon"
  },
  {
   "id": 19,
   "name": "___",
   "parentLayerId": 18,
   "defaultVisibility": true,
   "subLayerIds": null,
   "minScale": 551,
   "maxScale": 0
  },
  {
   "id": 20,
   "name": "Station (Nummer Node) (A)",
   "parentLayerId": 13,
   "defaultVisibility": true,
   "subLayerIds": [
    21
   ],
   "minScale": 551,
   "maxScale": 0,
   "type": "Annotation Layer",
   "geometryType": "esriGeometryPolygon"
  },
  {
   "id": 21,
   "name": "___",
   "parentLayerId": 20,
   "defaultVisibility": true,
   "subLayerIds": null,
   "minScale": 551,
   "maxScale": 0
  },
  {
   "id": 22,
   "name": "Station (Symbol)",
   "parentLayerId": 13,
   "defaultVisibility": true,
   "subLayerIds": null,
   "minScale": 1001,
   "maxScale": 0,
   "type": "Feature Layer",
   "geometryType": "esriGeometryPoint"
  },
  {
   "id": 23,
   "name": "Kleinanschluss Typ (A)",
   "parentLayerId": 13,
   "defaultVisibility": true,
   "subLayerIds": [
    24
   ],
   "minScale": 1001,
   "maxScale": 0,
   "type": "Annotation Layer",
   "geometryType": "esriGeometryPolygon"
  },
  {
   "id": 24,
   "name": "___",
   "parentLayerId": 23,
   "defaultVisibility": true,
   "subLayerIds": null,
   "minScale": 1001,
   "maxScale": 0
  },
  {
   "id": 25,
   "name": "Schaden",
   "parentLayerId": 13,
   "defaultVisibility": true,
   "subLayerIds": null,
   "minScale": 1001,
   "maxScale": 0,
   "type": "Feature Layer",
   "geometryType": "esriGeometryPoint"
  },
  {
   "id": 26,
   "name": "Hausanschluss",
   "parentLayerId": 13,
   "defaultVisibility": true,
   "subLayerIds": null,
   "minScale": 1001,
   "maxScale": 0,
   "type": "Feature Layer",
   "geometryType": "esriGeometryPoint"
  },
  {
   "id": 27,
   "name": "Station (Linie)",
   "parentLayerId": 13,
   "defaultVisibility": true,
   "subLayerIds": null,
   "minScale": 2001,
   "maxScale": 0,
   "type": "Feature Layer",
   "geometryType": "esriGeometryPolyline"
  },
  {
   "id": 28,
   "name": "Station (Fläche)",
   "parentLayerId": 13,
   "defaultVisibility": true,
   "subLayerIds": null,
   "minScale": 2001,
   "maxScale": 0,
   "type": "Feature Layer",
   "geometryType": "esriGeometryPolygon"
  },
  {
   "id": 29,
   "name": "Symbol WP EV",
   "parentLayerId": 13,
   "defaultVisibility": true,
   "subLayerIds": null,
   "minScale": 2001,
   "maxScale": 0,
   "type": "Feature Layer",
   "geometryType": "esriGeometryPoint"
  },
  {
   "id": 30,
   "name": "Kabel-Muffe",
   "parentLayerId": 13,
   "defaultVisibility": true,
   "subLayerIds": null,
   "minScale": 2001,
   "maxScale": 0,
   "type": "Feature Layer",
   "geometryType": "esriGeometryPoint"
  },
  {
   "id": 31,
   "name": "KS Sym EV Zugänglich",
   "parentLayerId": 13,
   "defaultVisibility": true,
   "subLayerIds": null,
   "minScale": 2001,
   "maxScale": 0,
   "type": "Feature Layer",
   "geometryType": "esriGeometryPoint"
  },
  {
   "id": 32,
   "name": "KS Sym EV nicht Zugänglich",
   "parentLayerId": 13,
   "defaultVisibility": true,
   "subLayerIds": null,
   "minScale": 2001,
   "maxScale": 0,
   "type": "Feature Layer",
   "geometryType": "esriGeometryPoint"
  },
  {
   "id": 33,
   "name": "KS Linie Zugänglich",
   "parentLayerId": 13,
   "defaultVisibility": true,
   "subLayerIds": null,
   "minScale": 2001,
   "maxScale": 0,
   "type": "Feature Layer",
   "geometryType": "esriGeometryPolyline"
  },
  {
   "id": 34,
   "name": "KS Linie nicht Zugänglich",
   "parentLayerId": 13,
   "defaultVisibility": true,
   "subLayerIds": null,
   "minScale": 2001,
   "maxScale": 0,
   "type": "Feature Layer",
   "geometryType": "esriGeometryPolyline"
  },
  {
   "id": 35,
   "name": "KS Fläche Zugänglich",
   "parentLayerId": 13,
   "defaultVisibility": true,
   "subLayerIds": null,
   "minScale": 2001,
   "maxScale": 0,
   "type": "Feature Layer",
   "geometryType": "esriGeometryPolygon"
  },
  {
   "id": 36,
   "name": "KS Fläche nicht Zugänglich",
   "parentLayerId": 13,
   "defaultVisibility": true,
   "subLayerIds": null,
   "minScale": 2001,
   "maxScale": 0,
   "type": "Feature Layer",
   "geometryType": "esriGeometryPolygon"
  },
  {
   "id": 37,
   "name": "Kleinanschluss",
   "parentLayerId": 13,
   "defaultVisibility": true,
   "subLayerIds": null,
   "minScale": 1001,
   "maxScale": 0,
   "type": "Feature Layer",
   "geometryType": "esriGeometryPoint"
  },
  {
   "id": 38,
   "name": "EV KV Werkplan",
   "parentLayerId": -1,
   "defaultVisibility": true,
   "subLayerIds": [
    39,
    41,
    55,
    57,
    59,
    61,
    66,
    67,
    68,
    69,
    70
   ],
   "minScale": 0,
   "maxScale": 0,
   "type": "Group Layer"
  },
  {
   "id": 39,
   "name": "Tragwerk Nummer (A)",
   "parentLayerId": 38,
   "defaultVisibility": true,
   "subLayerIds": [
    40
   ],
   "minScale": 2001,
   "maxScale": 0,
   "type": "Annotation Layer",
   "geometryType": "esriGeometryPolygon"
  },
  {
   "id": 40,
   "name": "___",
   "parentLayerId": 39,
   "defaultVisibility": true,
   "subLayerIds": null,
   "minScale": 2001,
   "maxScale": 0
  },
  {
   "id": 41,
   "name": "Muffe Text (A) ohne Halo",
   "parentLayerId": 38,
   "defaultVisibility": true,
   "subLayerIds": [
    42,
    43,
    44,
    45,
    46,
    47,
    48,
    49,
    50,
    51,
    52,
    53,
    54
   ],
   "minScale": 2001,
   "maxScale": 0,
   "type": "Annotation Layer",
   "geometryType": "esriGeometryPolygon"
  },
  {
   "id": 42,
   "name": "SPANNUNG___",
   "parentLayerId": 41,
   "defaultVisibility": true,
   "subLayerIds": null,
   "minScale": 2001,
   "maxScale": 0
  },
  {
   "id": 43,
   "name": "SPANNUNG__1_",
   "parentLayerId": 41,
   "defaultVisibility": true,
   "subLayerIds": null,
   "minScale": 2001,
   "maxScale": 0
  },
  {
   "id": 44,
   "name": "SPANNUNG__2_",
   "parentLayerId": 41,
   "defaultVisibility": true,
   "subLayerIds": null,
   "minScale": 2001,
   "maxScale": 0
  },
  {
   "id": 45,
   "name": "SPANNUNG__3_",
   "parentLayerId": 41,
   "defaultVisibility": true,
   "subLayerIds": null,
   "minScale": 2001,
   "maxScale": 0
  },
  {
   "id": 46,
   "name": "SPANNUNG__4_",
   "parentLayerId": 41,
   "defaultVisibility": true,
   "subLayerIds": null,
   "minScale": 2001,
   "maxScale": 0
  },
  {
   "id": 47,
   "name": "SPANNUNG__5_",
   "parentLayerId": 41,
   "defaultVisibility": true,
   "subLayerIds": null,
   "minScale": 2001,
   "maxScale": 0
  },
  {
   "id": 48,
   "name": "SPANNUNG__6_",
   "parentLayerId": 41,
   "defaultVisibility": true,
   "subLayerIds": null,
   "minScale": 2001,
   "maxScale": 0
  },
  {
   "id": 49,
   "name": "SPANNUNG__7_",
   "parentLayerId": 41,
   "defaultVisibility": true,
   "subLayerIds": null,
   "minScale": 2001,
   "maxScale": 0
  },
  {
   "id": 50,
   "name": "SPANNUNG__8_",
   "parentLayerId": 41,
   "defaultVisibility": true,
   "subLayerIds": null,
   "minScale": 2001,
   "maxScale": 0
  },
  {
   "id": 51,
   "name": "SPANNUNG__9_",
   "parentLayerId": 41,
   "defaultVisibility": true,
   "subLayerIds": null,
   "minScale": 2001,
   "maxScale": 0
  },
  {
   "id": 52,
   "name": "SPANNUNG__10_",
   "parentLayerId": 41,
   "defaultVisibility": true,
   "subLayerIds": null,
   "minScale": 2001,
   "maxScale": 0
  },
  {
   "id": 53,
   "name": "SPANNUNG__11_",
   "parentLayerId": 41,
   "defaultVisibility": true,
   "subLayerIds": null,
   "minScale": 2001,
   "maxScale": 0
  },
  {
   "id": 54,
   "name": "SPANNUNG__12_",
   "parentLayerId": 41,
   "defaultVisibility": true,
   "subLayerIds": null,
   "minScale": 2001,
   "maxScale": 0
  },
  {
   "id": 55,
   "name": "Schacht Nummer (A)",
   "parentLayerId": 38,
   "defaultVisibility": true,
   "subLayerIds": [
    56
   ],
   "minScale": 2001,
   "maxScale": 0,
   "type": "Annotation Layer",
   "geometryType": "esriGeometryPolygon"
  },
  {
   "id": 56,
   "name": "___",
   "parentLayerId": 55,
   "defaultVisibility": true,
   "subLayerIds": null,
   "minScale": 2001,
   "maxScale": 0
  },
  {
   "id": 57,
   "name": "Bauobjekt Name Nummer (A)",
   "parentLayerId": 38,
   "defaultVisibility": true,
   "subLayerIds": [
    58
   ],
   "minScale": 2001,
   "maxScale": 0,
   "type": "Annotation Layer",
   "geometryType": "esriGeometryPolygon"
  },
  {
   "id": 58,
   "name": "___",
   "parentLayerId": 57,
   "defaultVisibility": true,
   "subLayerIds": null,
   "minScale": 2001,
   "maxScale": 0
  },
  {
   "id": 59,
   "name": "Erdung Text (A)",
   "parentLayerId": 38,
   "defaultVisibility": true,
   "subLayerIds": [
    60
   ],
   "minScale": 2001,
   "maxScale": 0,
   "type": "Annotation Layer",
   "geometryType": "esriGeometryPolygon"
  },
  {
   "id": 60,
   "name": "___",
   "parentLayerId": 59,
   "defaultVisibility": true,
   "subLayerIds": null,
   "minScale": 2001,
   "maxScale": 0
  },
  {
   "id": 61,
   "name": "Freier Text (A)",
   "parentLayerId": 38,
   "defaultVisibility": true,
   "subLayerIds": [
    62,
    63,
    64,
    65
   ],
   "minScale": 2001,
   "maxScale": 0,
   "type": "Annotation Layer",
   "geometryType": "esriGeometryPolygon"
  },
  {
   "id": 62,
   "name": "STYLE___",
   "parentLayerId": 61,
   "defaultVisibility": true,
   "subLayerIds": null,
   "minScale": 2001,
   "maxScale": 0
  },
  {
   "id": 63,
   "name": "STYLE__0_",
   "parentLayerId": 61,
   "defaultVisibility": true,
   "subLayerIds": null,
   "minScale": 2001,
   "maxScale": 0
  },
  {
   "id": 64,
   "name": "STYLE__1_",
   "parentLayerId": 61,
   "defaultVisibility": true,
   "subLayerIds": null,
   "minScale": 2001,
   "maxScale": 0
  },
  {
   "id": 65,
   "name": "STYLE__2_",
   "parentLayerId": 61,
   "defaultVisibility": true,
   "subLayerIds": null,
   "minScale": 2001,
   "maxScale": 0
  },
  {
   "id": 66,
   "name": "Bauobjekt Symbol",
   "parentLayerId": 38,
   "defaultVisibility": true,
   "subLayerIds": null,
   "minScale": 2001,
   "maxScale": 0,
   "type": "Feature Layer",
   "geometryType": "esriGeometryPoint"
  },
  {
   "id": 67,
   "name": "Bauobjekt Linie",
   "parentLayerId": 38,
   "defaultVisibility": true,
   "subLayerIds": null,
   "minScale": 2001,
   "maxScale": 0,
   "type": "Feature Layer",
   "geometryType": "esriGeometryPolyline"
  },
  {
   "id": 68,
   "name": "Bauobjekt Fläche",
   "parentLayerId": 38,
   "defaultVisibility": true,
   "subLayerIds": null,
   "minScale": 2001,
   "maxScale": 0,
   "type": "Feature Layer",
   "geometryType": "esriGeometryPolygon"
  },
  {
   "id": 69,
   "name": "Erdungsbride",
   "parentLayerId": 38,
   "defaultVisibility": true,
   "subLayerIds": null,
   "minScale": 2001,
   "maxScale": 0,
   "type": "Feature Layer",
   "geometryType": "esriGeometryPoint"
  },
  {
   "id": 70,
   "name": "Erdung",
   "parentLayerId": 38,
   "defaultVisibility": true,
   "subLayerIds": null,
   "minScale": 2001,
   "maxScale": 0,
   "type": "Feature Layer",
   "geometryType": "esriGeometryPolyline"
  },
  {
   "id": 71,
   "name": "EV KV Trasse (ausgezogen)",
   "parentLayerId": -1,
   "defaultVisibility": true,
   "subLayerIds": [
    72,
    73,
    74,
    75,
    76
   ],
   "minScale": 0,
   "maxScale": 0,
   "type": "Group Layer"
  },
  {
   "id": 72,
   "name": "Kabeltrasse ohne Status",
   "parentLayerId": 71,
   "defaultVisibility": true,
   "subLayerIds": null,
   "minScale": 2001,
   "maxScale": 0,
   "type": "Feature Layer",
   "geometryType": "esriGeometryPolyline"
  },
  {
   "id": 73,
   "name": "Kabeltrasse ohne Typ",
   "parentLayerId": 71,
   "defaultVisibility": true,
   "subLayerIds": null,
   "minScale": 2001,
   "maxScale": 0,
   "type": "Feature Layer",
   "geometryType": "esriGeometryPolyline"
  },
  {
   "id": 74,
   "name": "Kabeltrasse ELE",
   "parentLayerId": 71,
   "defaultVisibility": true,
   "subLayerIds": null,
   "minScale": 2001,
   "maxScale": 0,
   "type": "Feature Layer",
   "geometryType": "esriGeometryPolyline"
  },
  {
   "id": 75,
   "name": "internes Trasse",
   "parentLayerId": 71,
   "defaultVisibility": true,
   "subLayerIds": null,
   "minScale": 2001,
   "maxScale": 0,
   "type": "Feature Layer",
   "geometryType": "esriGeometryPolyline"
  },
  {
   "id": 76,
   "name": "Symbol Rohrabzweiger",
   "parentLayerId": 71,
   "defaultVisibility": true,
   "subLayerIds": null,
   "minScale": 1001,
   "maxScale": 0,
   "type": "Feature Layer",
   "geometryType": "esriGeometryPoint"
  },
  {
   "id": 77,
   "name": "EV KV Übersicht Trassen",
   "parentLayerId": -1,
   "defaultVisibility": true,
   "subLayerIds": [
    78
   ],
   "minScale": 0,
   "maxScale": 0,
   "type": "Group Layer"
  },
  {
   "id": 78,
   "name": "Übersicht Trassen",
   "parentLayerId": 77,
   "defaultVisibility": true,
   "subLayerIds": null,
   "minScale": 0,
   "maxScale": 2001,
   "type": "Feature Layer",
   "geometryType": "esriGeometryPolyline"
  },
  {
   "id": 79,
   "name": "SUCHE",
   "parentLayerId": -1,
   "defaultVisibility": true,
   "subLayerIds": [
    80,
    81,
    82,
    83
   ],
   "minScale": 0,
   "maxScale": 0,
   "type": "Group Layer"
  },
  {
   "id": 80,
   "name": "Messpunkt_SUCHE",
   "parentLayerId": 79,
   "defaultVisibility": true,
   "subLayerIds": null,
   "minScale": 0,
   "maxScale": 0,
   "type": "Feature Layer",
   "geometryType": "esriGeometryPoint"
  },
  {
   "id": 81,
   "name": "Trasse_SUCHE",
   "parentLayerId": 79,
   "defaultVisibility": true,
   "subLayerIds": null,
   "minScale": 0,
   "maxScale": 0,
   "type": "Feature Layer",
   "geometryType": "esriGeometryPolyline"
  },
  {
   "id": 82,
   "name": "Rohr_SUCHE",
   "parentLayerId": 79,
   "defaultVisibility": true,
   "subLayerIds": null,
   "minScale": 0,
   "maxScale": 0,
   "type": "Feature Layer",
   "geometryType": "esriGeometryPolyline"
  },
  {
   "id": 83,
   "name": "Kabel_SUCHE",
   "parentLayerId": 79,
   "defaultVisibility": true,
   "subLayerIds": null,
   "minScale": 0,
   "maxScale": 0,
   "type": "Feature Layer",
   "geometryType": "esriGeometryPolyline"
  }
 ],
 "tables": [
  {
   "id": 84,
   "name": "Elektro-Beziehung: Trasse - Rohr",
   "type": "Table"
  },
  {
   "id": 85,
   "name": "Elektro-Beziehung: Trasse - Kabel",
   "type": "Table"
  },
  {
   "id": 86,
   "name": "Elektro-Beziehung: Rohr - Kabel",
   "type": "Table"
  },
  {
   "id": 87,
   "name": "Elektro-Beziehung: Rohr - Rohr",
   "type": "Table"
  },
  {
   "id": 88,
   "name": "Strang",
   "type": "Table"
  },
  {
   "id": 89,
   "name": "Netzebene",
   "type": "Table"
  },
  {
   "id": 90,
   "name": "Dokument",
   "type": "Table"
  },
  {
   "id": 91,
   "name": "Unterhalt",
   "type": "Table"
  },
  {
   "id": 92,
   "name": "Katalog: Kabel",
   "type": "Table"
  },
  {
   "id": 93,
   "name": "Katalog: Transformator",
   "type": "Table"
  },
  {
   "id": 94,
   "name": "NEPLAN: Netzeinspeisung",
   "type": "Table"
  }
 ],
 "spatialReference": {
  "wkid": 2056,
  "latestWkid": 2056
 },
 "singleFusedMapCache": true,
 "tileInfo": {
  "rows": 256,
  "cols": 256,
  "dpi": 96,
  "format": "PNG8",
  "compressionQuality": 0,
  "origin": {
   "x": -27386400,
   "y": 31814500
  },
  "spatialReference": {
   "wkid": 2056,
   "latestWkid": 2056
  },
  "lods": [
   {
    "level": 0,
    "resolution": 66.1459656252646,
    "scale": 250000
   },
   {
    "level": 1,
    "resolution": 26.458386250105836,
    "scale": 100000
   },
   {
    "level": 2,
    "resolution": 13.229193125052918,
    "scale": 50000
   },
   {
    "level": 3,
    "resolution": 5.291677250021167,
    "scale": 20000
   },
   {
    "level": 4,
    "resolution": 2.6458386250105836,
    "scale": 10000
   },
   {
    "level": 5,
    "resolution": 1.3229193125052918,
    "scale": 5000
   },
   {
    "level": 6,
    "resolution": 0.5291677250021167,
    "scale": 2000
   },
   {
    "level": 7,
    "resolution": 0.26458386250105836,
    "scale": 1000
   },
   {
    "level": 8,
    "resolution": 0.13229193125052918,
    "scale": 500
   },
   {
    "level": 9,
    "resolution": 0.06614596562526459,
    "scale": 250
   },
   {
    "level": 10,
    "resolution": 0.026458386250105836,
    "scale": 100
   }
  ]
 },
 "initialExtent": {
  "xmin": 2585575.3552719136,
  "ymin": 1209936.9178142645,
  "xmax": 2630853.9868194363,
  "ymax": 1225917.6113016256,
  "spatialReference": {
   "wkid": 2056,
   "latestWkid": 2056
  }
 },
 "fullExtent": {
  "xmin": 2585930.0952265235,
  "ymin": 1194365.9856983745,
  "xmax": 2630499.2468648264,
  "ymax": 1225917.6113016256,
  "spatialReference": {
   "wkid": 2056,
   "latestWkid": 2056
  }
 },
 "minScale": 250000,
 "maxScale": 100,
 "minLOD": 0,
 "maxLOD": 10,
 "units": "esriMeters",
 "supportedImageFormatTypes": "PNG32,PNG24,PNG,JPG,DIB,TIFF,EMF,PS,PDF,GIF,SVG,SVGZ,BMP",
 "documentInfo": {
  "Title": "",
  "Author": "",
  "Comments": "",
  "Subject": "",
  "Category": "",
  "AntialiasingMode": "None",
  "TextAntialiasingMode": "Force",
  "Keywords": ""
 },
 "capabilities": "Map,Query,Data",
 "supportedQueryFormats": "JSON, geoJSON",
 "exportTilesAllowed": false,
 "referenceScale": 500,
 "supportsDatumTransformation": true,
 "maxRecordCount": 1000,
 "maxImageHeight": 4096,
 "maxImageWidth": 4096,
 "supportedExtensions": "GEONISMapServiceConnector2021, WMSServer",
 "resampling": false
}
