{
 "currentVersion": 10.81,
 "serviceDescription": "",
 "mapName": "EC_KABEL",
 "description": "",
 "copyrightText": "",
 "supportsDynamicLayers": true,
 "layers": [
  {
   "id": 0,
   "name": "EV KV Messpunkt",
   "parentLayerId": -1,
   "defaultVisibility": true,
   "subLayerIds": [
    1
   ],
   "minScale": 0,
   "maxScale": 0,
   "type": "Group Layer"
  },
  {
   "id": 1,
   "name": "Messpunkt",
   "parentLayerId": 0,
   "defaultVisibility": true,
   "subLayerIds": null,
   "minScale": 2001,
   "maxScale": 0,
   "type": "Feature Layer",
   "geometryType": "esriGeometryPoint"
  },
  {
   "id": 2,
   "name": "EV KV Punktobjekte",
   "parentLayerId": -1,
   "defaultVisibility": true,
   "subLayerIds": [
    3,
    5,
    7,
    9,
    11,
    12,
    14,
    15,
    16,
    17,
    18,
    19,
    20,
    21,
    22,
    23,
    24,
    25,
    26
   ],
   "minScale": 0,
   "maxScale": 0,
   "type": "Group Layer"
  },
  {
   "id": 3,
   "name": "Station (Name) (A)",
   "parentLayerId": 2,
   "defaultVisibility": true,
   "subLayerIds": [
    4
   ],
   "minScale": 551,
   "maxScale": 0,
   "type": "Annotation Layer",
   "geometryType": "esriGeometryPolygon"
  },
  {
   "id": 4,
   "name": "___",
   "parentLayerId": 3,
   "defaultVisibility": true,
   "subLayerIds": null,
   "minScale": 551,
   "maxScale": 0
  },
  {
   "id": 5,
   "name": "Station (Nummer) (A)",
   "parentLayerId": 2,
   "defaultVisibility": true,
   "subLayerIds": [
    6
   ],
   "minScale": 551,
   "maxScale": 0,
   "type": "Annotation Layer",
   "geometryType": "esriGeometryPolygon"
  },
  {
   "id": 6,
   "name": "___",
   "parentLayerId": 5,
   "defaultVisibility": true,
   "subLayerIds": null,
   "minScale": 551,
   "maxScale": 0
  },
  {
   "id": 7,
   "name": "Station (Name Node) (A)",
   "parentLayerId": 2,
   "defaultVisibility": true,
   "subLayerIds": [
    8
   ],
   "minScale": 551,
   "maxScale": 0,
   "type": "Annotation Layer",
   "geometryType": "esriGeometryPolygon"
  },
  {
   "id": 8,
   "name": "___",
   "parentLayerId": 7,
   "defaultVisibility": true,
   "subLayerIds": null,
   "minScale": 551,
   "maxScale": 0
  },
  {
   "id": 9,
   "name": "Station (Nummer Node) (A)",
   "parentLayerId": 2,
   "defaultVisibility": true,
   "subLayerIds": [
    10
   ],
   "minScale": 551,
   "maxScale": 0,
   "type": "Annotation Layer",
   "geometryType": "esriGeometryPolygon"
  },
  {
   "id": 10,
   "name": "___",
   "parentLayerId": 9,
   "defaultVisibility": true,
   "subLayerIds": null,
   "minScale": 551,
   "maxScale": 0
  },
  {
   "id": 11,
   "name": "Station (Symbol)",
   "parentLayerId": 2,
   "defaultVisibility": true,
   "subLayerIds": null,
   "minScale": 1001,
   "maxScale": 0,
   "type": "Feature Layer",
   "geometryType": "esriGeometryPoint"
  },
  {
   "id": 12,
   "name": "Kleinanschluss Typ (A)",
   "parentLayerId": 2,
   "defaultVisibility": true,
   "subLayerIds": [
    13
   ],
   "minScale": 1001,
   "maxScale": 0,
   "type": "Annotation Layer",
   "geometryType": "esriGeometryPolygon"
  },
  {
   "id": 13,
   "name": "___",
   "parentLayerId": 12,
   "defaultVisibility": true,
   "subLayerIds": null,
   "minScale": 1001,
   "maxScale": 0
  },
  {
   "id": 14,
   "name": "Schaden",
   "parentLayerId": 2,
   "defaultVisibility": true,
   "subLayerIds": null,
   "minScale": 1001,
   "maxScale": 0,
   "type": "Feature Layer",
   "geometryType": "esriGeometryPoint"
  },
  {
   "id": 15,
   "name": "Hausanschluss",
   "parentLayerId": 2,
   "defaultVisibility": true,
   "subLayerIds": null,
   "minScale": 1001,
   "maxScale": 0,
   "type": "Feature Layer",
   "geometryType": "esriGeometryPoint"
  },
  {
   "id": 16,
   "name": "Station (Linie)",
   "parentLayerId": 2,
   "defaultVisibility": true,
   "subLayerIds": null,
   "minScale": 2001,
   "maxScale": 0,
   "type": "Feature Layer",
   "geometryType": "esriGeometryPolyline"
  },
  {
   "id": 17,
   "name": "Station (Fläche)",
   "parentLayerId": 2,
   "defaultVisibility": true,
   "subLayerIds": null,
   "minScale": 2001,
   "maxScale": 0,
   "type": "Feature Layer",
   "geometryType": "esriGeometryPolygon"
  },
  {
   "id": 18,
   "name": "Symbol WP EV",
   "parentLayerId": 2,
   "defaultVisibility": true,
   "subLayerIds": null,
   "minScale": 2001,
   "maxScale": 0,
   "type": "Feature Layer",
   "geometryType": "esriGeometryPoint"
  },
  {
   "id": 19,
   "name": "Kabel-Muffe",
   "parentLayerId": 2,
   "defaultVisibility": true,
   "subLayerIds": null,
   "minScale": 2001,
   "maxScale": 0,
   "type": "Feature Layer",
   "geometryType": "esriGeometryPoint"
  },
  {
   "id": 20,
   "name": "KS Sym EV Zugänglich",
   "parentLayerId": 2,
   "defaultVisibility": true,
   "subLayerIds": null,
   "minScale": 2001,
   "maxScale": 0,
   "type": "Feature Layer",
   "geometryType": "esriGeometryPoint"
  },
  {
   "id": 21,
   "name": "KS Sym EV nicht Zugänglich",
   "parentLayerId": 2,
   "defaultVisibility": true,
   "subLayerIds": null,
   "minScale": 2001,
   "maxScale": 0,
   "type": "Feature Layer",
   "geometryType": "esriGeometryPoint"
  },
  {
   "id": 22,
   "name": "KS Linie Zugänglich",
   "parentLayerId": 2,
   "defaultVisibility": true,
   "subLayerIds": null,
   "minScale": 2001,
   "maxScale": 0,
   "type": "Feature Layer",
   "geometryType": "esriGeometryPolyline"
  },
  {
   "id": 23,
   "name": "KS Linie nicht Zugänglich",
   "parentLayerId": 2,
   "defaultVisibility": true,
   "subLayerIds": null,
   "minScale": 2001,
   "maxScale": 0,
   "type": "Feature Layer",
   "geometryType": "esriGeometryPolyline"
  },
  {
   "id": 24,
   "name": "KS Fläche Zugänglich",
   "parentLayerId": 2,
   "defaultVisibility": true,
   "subLayerIds": null,
   "minScale": 2001,
   "maxScale": 0,
   "type": "Feature Layer",
   "geometryType": "esriGeometryPolygon"
  },
  {
   "id": 25,
   "name": "KS Fläche nicht Zugänglich",
   "parentLayerId": 2,
   "defaultVisibility": true,
   "subLayerIds": null,
   "minScale": 2001,
   "maxScale": 0,
   "type": "Feature Layer",
   "geometryType": "esriGeometryPolygon"
  },
  {
   "id": 26,
   "name": "Kleinanschluss",
   "parentLayerId": 2,
   "defaultVisibility": true,
   "subLayerIds": null,
   "minScale": 1001,
   "maxScale": 0,
   "type": "Feature Layer",
   "geometryType": "esriGeometryPoint"
  },
  {
   "id": 27,
   "name": "EV KV Querschnitt",
   "parentLayerId": -1,
   "defaultVisibility": true,
   "subLayerIds": [
    28,
    30,
    44,
    46,
    48,
    49,
    50,
    51,
    52,
    53
   ],
   "minScale": 0,
   "maxScale": 0,
   "type": "Group Layer"
  },
  {
   "id": 28,
   "name": "Kabelschutz Position (A)",
   "parentLayerId": 27,
   "defaultVisibility": true,
   "subLayerIds": [
    29
   ],
   "minScale": 2001,
   "maxScale": 0,
   "type": "Annotation Layer",
   "geometryType": "esriGeometryPolygon"
  },
  {
   "id": 29,
   "name": "___",
   "parentLayerId": 28,
   "defaultVisibility": true,
   "subLayerIds": null,
   "minScale": 2001,
   "maxScale": 0
  },
  {
   "id": 30,
   "name": "Kabel Text (A) ohne Halo",
   "parentLayerId": 27,
   "defaultVisibility": true,
   "subLayerIds": [
    31,
    32,
    33,
    34,
    35,
    36,
    37,
    38,
    39,
    40,
    41,
    42,
    43
   ],
   "minScale": 2001,
   "maxScale": 0,
   "type": "Annotation Layer",
   "geometryType": "esriGeometryPolygon"
  },
  {
   "id": 31,
   "name": "SPANNUNG___",
   "parentLayerId": 30,
   "defaultVisibility": true,
   "subLayerIds": null,
   "minScale": 2001,
   "maxScale": 0
  },
  {
   "id": 32,
   "name": "SPANNUNG__1_",
   "parentLayerId": 30,
   "defaultVisibility": true,
   "subLayerIds": null,
   "minScale": 2001,
   "maxScale": 0
  },
  {
   "id": 33,
   "name": "SPANNUNG__2_",
   "parentLayerId": 30,
   "defaultVisibility": true,
   "subLayerIds": null,
   "minScale": 2001,
   "maxScale": 0
  },
  {
   "id": 34,
   "name": "SPANNUNG__3_",
   "parentLayerId": 30,
   "defaultVisibility": true,
   "subLayerIds": null,
   "minScale": 2001,
   "maxScale": 0
  },
  {
   "id": 35,
   "name": "SPANNUNG__4_",
   "parentLayerId": 30,
   "defaultVisibility": true,
   "subLayerIds": null,
   "minScale": 2001,
   "maxScale": 0
  },
  {
   "id": 36,
   "name": "SPANNUNG__5_",
   "parentLayerId": 30,
   "defaultVisibility": true,
   "subLayerIds": null,
   "minScale": 2001,
   "maxScale": 0
  },
  {
   "id": 37,
   "name": "SPANNUNG__6_",
   "parentLayerId": 30,
   "defaultVisibility": true,
   "subLayerIds": null,
   "minScale": 2001,
   "maxScale": 0
  },
  {
   "id": 38,
   "name": "SPANNUNG__7_",
   "parentLayerId": 30,
   "defaultVisibility": true,
   "subLayerIds": null,
   "minScale": 2001,
   "maxScale": 0
  },
  {
   "id": 39,
   "name": "SPANNUNG__8_",
   "parentLayerId": 30,
   "defaultVisibility": true,
   "subLayerIds": null,
   "minScale": 2001,
   "maxScale": 0
  },
  {
   "id": 40,
   "name": "SPANNUNG__9_",
   "parentLayerId": 30,
   "defaultVisibility": true,
   "subLayerIds": null,
   "minScale": 2001,
   "maxScale": 0
  },
  {
   "id": 41,
   "name": "SPANNUNG__10_",
   "parentLayerId": 30,
   "defaultVisibility": true,
   "subLayerIds": null,
   "minScale": 2001,
   "maxScale": 0
  },
  {
   "id": 42,
   "name": "SPANNUNG__11_",
   "parentLayerId": 30,
   "defaultVisibility": true,
   "subLayerIds": null,
   "minScale": 2001,
   "maxScale": 0
  },
  {
   "id": 43,
   "name": "SPANNUNG__12_",
   "parentLayerId": 30,
   "defaultVisibility": true,
   "subLayerIds": null,
   "minScale": 2001,
   "maxScale": 0
  },
  {
   "id": 44,
   "name": "Kabelschutz Innen Text (A) ohne Halo",
   "parentLayerId": 27,
   "defaultVisibility": true,
   "subLayerIds": [
    45
   ],
   "minScale": 2001,
   "maxScale": 0,
   "type": "Annotation Layer",
   "geometryType": "esriGeometryPolygon"
  },
  {
   "id": 45,
   "name": "___",
   "parentLayerId": 44,
   "defaultVisibility": true,
   "subLayerIds": null,
   "minScale": 2001,
   "maxScale": 0
  },
  {
   "id": 46,
   "name": "Kabelschutz Aussen Text (A) ohne Halo",
   "parentLayerId": 27,
   "defaultVisibility": true,
   "subLayerIds": [
    47
   ],
   "minScale": 2001,
   "maxScale": 0,
   "type": "Annotation Layer",
   "geometryType": "esriGeometryPolygon"
  },
  {
   "id": 47,
   "name": "___",
   "parentLayerId": 46,
   "defaultVisibility": true,
   "subLayerIds": null,
   "minScale": 2001,
   "maxScale": 0
  },
  {
   "id": 48,
   "name": "Kabel",
   "parentLayerId": 27,
   "defaultVisibility": true,
   "subLayerIds": null,
   "minScale": 2001,
   "maxScale": 0,
   "type": "Feature Layer",
   "geometryType": "esriGeometryPoint"
  },
  {
   "id": 49,
   "name": "Kabelschutz Innen",
   "parentLayerId": 27,
   "defaultVisibility": true,
   "subLayerIds": null,
   "minScale": 2001,
   "maxScale": 0,
   "type": "Feature Layer",
   "geometryType": "esriGeometryPoint"
  },
  {
   "id": 50,
   "name": "Kabelschutz, aussen",
   "parentLayerId": 27,
   "defaultVisibility": true,
   "subLayerIds": null,
   "minScale": 2001,
   "maxScale": 0,
   "type": "Feature Layer",
   "geometryType": "esriGeometryPoint"
  },
  {
   "id": 51,
   "name": "Querschnittsbasis",
   "parentLayerId": 27,
   "defaultVisibility": true,
   "subLayerIds": null,
   "minScale": 2001,
   "maxScale": 0,
   "type": "Feature Layer",
   "geometryType": "esriGeometryPolyline"
  },
  {
   "id": 52,
   "name": "Querschnittsfläche",
   "parentLayerId": 27,
   "defaultVisibility": true,
   "subLayerIds": null,
   "minScale": 2001,
   "maxScale": 0,
   "type": "Feature Layer",
   "geometryType": "esriGeometryPolygon"
  },
  {
   "id": 53,
   "name": "Trasse-Kabel (A)",
   "parentLayerId": 27,
   "defaultVisibility": true,
   "subLayerIds": [
    54
   ],
   "minScale": 2001,
   "maxScale": 0,
   "type": "Annotation Layer",
   "geometryType": "esriGeometryPolygon"
  },
  {
   "id": 54,
   "name": "___",
   "parentLayerId": 53,
   "defaultVisibility": true,
   "subLayerIds": null,
   "minScale": 2001,
   "maxScale": 0
  },
  {
   "id": 55,
   "name": "EV KV Werkplan",
   "parentLayerId": -1,
   "defaultVisibility": true,
   "subLayerIds": [
    56,
    58,
    72,
    74,
    76,
    78,
    83,
    84,
    85,
    86,
    87
   ],
   "minScale": 0,
   "maxScale": 0,
   "type": "Group Layer"
  },
  {
   "id": 56,
   "name": "Tragwerk Nummer (A)",
   "parentLayerId": 55,
   "defaultVisibility": true,
   "subLayerIds": [
    57
   ],
   "minScale": 2001,
   "maxScale": 0,
   "type": "Annotation Layer",
   "geometryType": "esriGeometryPolygon"
  },
  {
   "id": 57,
   "name": "___",
   "parentLayerId": 56,
   "defaultVisibility": true,
   "subLayerIds": null,
   "minScale": 2001,
   "maxScale": 0
  },
  {
   "id": 58,
   "name": "Muffe Text (A) ohne Halo",
   "parentLayerId": 55,
   "defaultVisibility": true,
   "subLayerIds": [
    59,
    60,
    61,
    62,
    63,
    64,
    65,
    66,
    67,
    68,
    69,
    70,
    71
   ],
   "minScale": 2001,
   "maxScale": 0,
   "type": "Annotation Layer",
   "geometryType": "esriGeometryPolygon"
  },
  {
   "id": 59,
   "name": "SPANNUNG___",
   "parentLayerId": 58,
   "defaultVisibility": true,
   "subLayerIds": null,
   "minScale": 2001,
   "maxScale": 0
  },
  {
   "id": 60,
   "name": "SPANNUNG__1_",
   "parentLayerId": 58,
   "defaultVisibility": true,
   "subLayerIds": null,
   "minScale": 2001,
   "maxScale": 0
  },
  {
   "id": 61,
   "name": "SPANNUNG__2_",
   "parentLayerId": 58,
   "defaultVisibility": true,
   "subLayerIds": null,
   "minScale": 2001,
   "maxScale": 0
  },
  {
   "id": 62,
   "name": "SPANNUNG__3_",
   "parentLayerId": 58,
   "defaultVisibility": true,
   "subLayerIds": null,
   "minScale": 2001,
   "maxScale": 0
  },
  {
   "id": 63,
   "name": "SPANNUNG__4_",
   "parentLayerId": 58,
   "defaultVisibility": true,
   "subLayerIds": null,
   "minScale": 2001,
   "maxScale": 0
  },
  {
   "id": 64,
   "name": "SPANNUNG__5_",
   "parentLayerId": 58,
   "defaultVisibility": true,
   "subLayerIds": null,
   "minScale": 2001,
   "maxScale": 0
  },
  {
   "id": 65,
   "name": "SPANNUNG__6_",
   "parentLayerId": 58,
   "defaultVisibility": true,
   "subLayerIds": null,
   "minScale": 2001,
   "maxScale": 0
  },
  {
   "id": 66,
   "name": "SPANNUNG__7_",
   "parentLayerId": 58,
   "defaultVisibility": true,
   "subLayerIds": null,
   "minScale": 2001,
   "maxScale": 0
  },
  {
   "id": 67,
   "name": "SPANNUNG__8_",
   "parentLayerId": 58,
   "defaultVisibility": true,
   "subLayerIds": null,
   "minScale": 2001,
   "maxScale": 0
  },
  {
   "id": 68,
   "name": "SPANNUNG__9_",
   "parentLayerId": 58,
   "defaultVisibility": true,
   "subLayerIds": null,
   "minScale": 2001,
   "maxScale": 0
  },
  {
   "id": 69,
   "name": "SPANNUNG__10_",
   "parentLayerId": 58,
   "defaultVisibility": true,
   "subLayerIds": null,
   "minScale": 2001,
   "maxScale": 0
  },
  {
   "id": 70,
   "name": "SPANNUNG__11_",
   "parentLayerId": 58,
   "defaultVisibility": true,
   "subLayerIds": null,
   "minScale": 2001,
   "maxScale": 0
  },
  {
   "id": 71,
   "name": "SPANNUNG__12_",
   "parentLayerId": 58,
   "defaultVisibility": true,
   "subLayerIds": null,
   "minScale": 2001,
   "maxScale": 0
  },
  {
   "id": 72,
   "name": "Schacht Nummer (A)",
   "parentLayerId": 55,
   "defaultVisibility": true,
   "subLayerIds": [
    73
   ],
   "minScale": 2001,
   "maxScale": 0,
   "type": "Annotation Layer",
   "geometryType": "esriGeometryPolygon"
  },
  {
   "id": 73,
   "name": "___",
   "parentLayerId": 72,
   "defaultVisibility": true,
   "subLayerIds": null,
   "minScale": 2001,
   "maxScale": 0
  },
  {
   "id": 74,
   "name": "Bauobjekt Name Nummer (A)",
   "parentLayerId": 55,
   "defaultVisibility": true,
   "subLayerIds": [
    75
   ],
   "minScale": 2001,
   "maxScale": 0,
   "type": "Annotation Layer",
   "geometryType": "esriGeometryPolygon"
  },
  {
   "id": 75,
   "name": "___",
   "parentLayerId": 74,
   "defaultVisibility": true,
   "subLayerIds": null,
   "minScale": 2001,
   "maxScale": 0
  },
  {
   "id": 76,
   "name": "Erdung Text (A)",
   "parentLayerId": 55,
   "defaultVisibility": true,
   "subLayerIds": [
    77
   ],
   "minScale": 2001,
   "maxScale": 0,
   "type": "Annotation Layer",
   "geometryType": "esriGeometryPolygon"
  },
  {
   "id": 77,
   "name": "___",
   "parentLayerId": 76,
   "defaultVisibility": true,
   "subLayerIds": null,
   "minScale": 2001,
   "maxScale": 0
  },
  {
   "id": 78,
   "name": "Freier Text (A)",
   "parentLayerId": 55,
   "defaultVisibility": true,
   "subLayerIds": [
    79,
    80,
    81,
    82
   ],
   "minScale": 2001,
   "maxScale": 0,
   "type": "Annotation Layer",
   "geometryType": "esriGeometryPolygon"
  },
  {
   "id": 79,
   "name": "STYLE___",
   "parentLayerId": 78,
   "defaultVisibility": true,
   "subLayerIds": null,
   "minScale": 2001,
   "maxScale": 0
  },
  {
   "id": 80,
   "name": "STYLE__0_",
   "parentLayerId": 78,
   "defaultVisibility": true,
   "subLayerIds": null,
   "minScale": 2001,
   "maxScale": 0
  },
  {
   "id": 81,
   "name": "STYLE__1_",
   "parentLayerId": 78,
   "defaultVisibility": true,
   "subLayerIds": null,
   "minScale": 2001,
   "maxScale": 0
  },
  {
   "id": 82,
   "name": "STYLE__2_",
   "parentLayerId": 78,
   "defaultVisibility": true,
   "subLayerIds": null,
   "minScale": 2001,
   "maxScale": 0
  },
  {
   "id": 83,
   "name": "Bauobjekt Symbol",
   "parentLayerId": 55,
   "defaultVisibility": true,
   "subLayerIds": null,
   "minScale": 2001,
   "maxScale": 0,
   "type": "Feature Layer",
   "geometryType": "esriGeometryPoint"
  },
  {
   "id": 84,
   "name": "Bauobjekt Linie",
   "parentLayerId": 55,
   "defaultVisibility": true,
   "subLayerIds": null,
   "minScale": 2001,
   "maxScale": 0,
   "type": "Feature Layer",
   "geometryType": "esriGeometryPolyline"
  },
  {
   "id": 85,
   "name": "Bauobjekt Fläche",
   "parentLayerId": 55,
   "defaultVisibility": true,
   "subLayerIds": null,
   "minScale": 2001,
   "maxScale": 0,
   "type": "Feature Layer",
   "geometryType": "esriGeometryPolygon"
  },
  {
   "id": 86,
   "name": "Erdungsbride",
   "parentLayerId": 55,
   "defaultVisibility": true,
   "subLayerIds": null,
   "minScale": 2001,
   "maxScale": 0,
   "type": "Feature Layer",
   "geometryType": "esriGeometryPoint"
  },
  {
   "id": 87,
   "name": "Erdung",
   "parentLayerId": 55,
   "defaultVisibility": true,
   "subLayerIds": null,
   "minScale": 2001,
   "maxScale": 0,
   "type": "Feature Layer",
   "geometryType": "esriGeometryPolyline"
  },
  {
   "id": 88,
   "name": "EV KV Trasse (ausgezogen)",
   "parentLayerId": -1,
   "defaultVisibility": true,
   "subLayerIds": [
    89,
    90,
    91,
    92,
    93
   ],
   "minScale": 0,
   "maxScale": 0,
   "type": "Group Layer"
  },
  {
   "id": 89,
   "name": "Kabeltrasse ohne Status",
   "parentLayerId": 88,
   "defaultVisibility": true,
   "subLayerIds": null,
   "minScale": 2001,
   "maxScale": 0,
   "type": "Feature Layer",
   "geometryType": "esriGeometryPolyline"
  },
  {
   "id": 90,
   "name": "Kabeltrasse ohne Typ",
   "parentLayerId": 88,
   "defaultVisibility": true,
   "subLayerIds": null,
   "minScale": 2001,
   "maxScale": 0,
   "type": "Feature Layer",
   "geometryType": "esriGeometryPolyline"
  },
  {
   "id": 91,
   "name": "Kabeltrasse ELE",
   "parentLayerId": 88,
   "defaultVisibility": true,
   "subLayerIds": null,
   "minScale": 2001,
   "maxScale": 0,
   "type": "Feature Layer",
   "geometryType": "esriGeometryPolyline"
  },
  {
   "id": 92,
   "name": "internes Trasse",
   "parentLayerId": 88,
   "defaultVisibility": true,
   "subLayerIds": null,
   "minScale": 2001,
   "maxScale": 0,
   "type": "Feature Layer",
   "geometryType": "esriGeometryPolyline"
  },
  {
   "id": 93,
   "name": "Symbol Rohrabzweiger",
   "parentLayerId": 88,
   "defaultVisibility": true,
   "subLayerIds": null,
   "minScale": 1001,
   "maxScale": 0,
   "type": "Feature Layer",
   "geometryType": "esriGeometryPoint"
  },
  {
   "id": 94,
   "name": "EV KV Übersicht Trassen",
   "parentLayerId": -1,
   "defaultVisibility": true,
   "subLayerIds": [
    95
   ],
   "minScale": 0,
   "maxScale": 0,
   "type": "Group Layer"
  },
  {
   "id": 95,
   "name": "Übersicht Trassen",
   "parentLayerId": 94,
   "defaultVisibility": true,
   "subLayerIds": null,
   "minScale": 0,
   "maxScale": 2001,
   "type": "Feature Layer",
   "geometryType": "esriGeometryPolyline"
  },
  {
   "id": 96,
   "name": "SUCHE",
   "parentLayerId": -1,
   "defaultVisibility": true,
   "subLayerIds": [
    97,
    98,
    99,
    100
   ],
   "minScale": 0,
   "maxScale": 0,
   "type": "Group Layer"
  },
  {
   "id": 97,
   "name": "Messpunkt_SUCHE",
   "parentLayerId": 96,
   "defaultVisibility": true,
   "subLayerIds": null,
   "minScale": 0,
   "maxScale": 0,
   "type": "Feature Layer",
   "geometryType": "esriGeometryPoint"
  },
  {
   "id": 98,
   "name": "Trasse_SUCHE",
   "parentLayerId": 96,
   "defaultVisibility": true,
   "subLayerIds": null,
   "minScale": 0,
   "maxScale": 0,
   "type": "Feature Layer",
   "geometryType": "esriGeometryPolyline"
  },
  {
   "id": 99,
   "name": "Rohr_SUCHE",
   "parentLayerId": 96,
   "defaultVisibility": true,
   "subLayerIds": null,
   "minScale": 0,
   "maxScale": 0,
   "type": "Feature Layer",
   "geometryType": "esriGeometryPolyline"
  },
  {
   "id": 100,
   "name": "Kabel_SUCHE",
   "parentLayerId": 96,
   "defaultVisibility": true,
   "subLayerIds": null,
   "minScale": 0,
   "maxScale": 0,
   "type": "Feature Layer",
   "geometryType": "esriGeometryPolyline"
  }
 ],
 "tables": [
  {
   "id": 101,
   "name": "Elektro-Beziehung: Trasse - Rohr",
   "type": "Table"
  },
  {
   "id": 102,
   "name": "Elektro-Beziehung: Trasse - Kabel",
   "type": "Table"
  },
  {
   "id": 103,
   "name": "Elektro-Beziehung: Rohr - Kabel",
   "type": "Table"
  },
  {
   "id": 104,
   "name": "Elektro-Beziehung: Rohr - Rohr",
   "type": "Table"
  },
  {
   "id": 105,
   "name": "Strang",
   "type": "Table"
  },
  {
   "id": 106,
   "name": "Netzebene",
   "type": "Table"
  },
  {
   "id": 107,
   "name": "Dokument",
   "type": "Table"
  },
  {
   "id": 108,
   "name": "Unterhalt",
   "type": "Table"
  },
  {
   "id": 109,
   "name": "Katalog: Kabel",
   "type": "Table"
  },
  {
   "id": 110,
   "name": "Katalog: Transformator",
   "type": "Table"
  },
  {
   "id": 111,
   "name": "NEPLAN: Netzeinspeisung",
   "type": "Table"
  }
 ],
 "spatialReference": {
  "wkid": 2056,
  "latestWkid": 2056
 },
 "singleFusedMapCache": true,
 "tileInfo": {
  "rows": 256,
  "cols": 256,
  "dpi": 96,
  "format": "PNG8",
  "compressionQuality": 0,
  "origin": {
   "x": -27386400,
   "y": 31814500
  },
  "spatialReference": {
   "wkid": 2056,
   "latestWkid": 2056
  },
  "lods": [
   {
    "level": 0,
    "resolution": 66.1459656252646,
    "scale": 250000
   },
   {
    "level": 1,
    "resolution": 26.458386250105836,
    "scale": 100000
   },
   {
    "level": 2,
    "resolution": 13.229193125052918,
    "scale": 50000
   },
   {
    "level": 3,
    "resolution": 5.291677250021167,
    "scale": 20000
   },
   {
    "level": 4,
    "resolution": 2.6458386250105836,
    "scale": 10000
   },
   {
    "level": 5,
    "resolution": 1.3229193125052918,
    "scale": 5000
   },
   {
    "level": 6,
    "resolution": 0.5291677250021167,
    "scale": 2000
   },
   {
    "level": 7,
    "resolution": 0.26458386250105836,
    "scale": 1000
   },
   {
    "level": 8,
    "resolution": 0.13229193125052918,
    "scale": 500
   },
   {
    "level": 9,
    "resolution": 0.06614596562526459,
    "scale": 250
   },
   {
    "level": 10,
    "resolution": 0.026458386250105836,
    "scale": 100
   }
  ]
 },
 "initialExtent": {
  "xmin": 2585575.3552719136,
  "ymin": 1209936.9178142645,
  "xmax": 2630853.9868194363,
  "ymax": 1225917.6113016256,
  "spatialReference": {
   "wkid": 2056,
   "latestWkid": 2056
  }
 },
 "fullExtent": {
  "xmin": 2585930.0952265235,
  "ymin": 1194365.9856983745,
  "xmax": 2630499.2468648264,
  "ymax": 1225917.6113016256,
